BEGIN:VCALENDAR
VERSION:2.0
PRODID:-//Modellbahnclub Hoyerswerda e. V. - ECPv6.15.15//NONSGML v1.0//EN
CALSCALE:GREGORIAN
METHOD:PUBLISH
X-ORIGINAL-URL:https://modellbahnclub-hoyerswerda.de
X-WR-CALDESC:Veranstaltungen für Modellbahnclub Hoyerswerda e. V.
REFRESH-INTERVAL;VALUE=DURATION:PT1H
X-Robots-Tag:noindex
X-PUBLISHED-TTL:PT1H
BEGIN:VTIMEZONE
TZID:Europe/Paris
BEGIN:DAYLIGHT
TZOFFSETFROM:+0100
TZOFFSETTO:+0200
TZNAME:CEST
DTSTART:20240331T010000
END:DAYLIGHT
BEGIN:STANDARD
TZOFFSETFROM:+0200
TZOFFSETTO:+0100
TZNAME:CET
DTSTART:20241027T010000
END:STANDARD
BEGIN:DAYLIGHT
TZOFFSETFROM:+0100
TZOFFSETTO:+0200
TZNAME:CEST
DTSTART:20250330T010000
END:DAYLIGHT
BEGIN:STANDARD
TZOFFSETFROM:+0200
TZOFFSETTO:+0100
TZNAME:CET
DTSTART:20251026T010000
END:STANDARD
BEGIN:DAYLIGHT
TZOFFSETFROM:+0100
TZOFFSETTO:+0200
TZNAME:CEST
DTSTART:20260329T010000
END:DAYLIGHT
BEGIN:STANDARD
TZOFFSETFROM:+0200
TZOFFSETTO:+0100
TZNAME:CET
DTSTART:20261025T010000
END:STANDARD
END:VTIMEZONE
BEGIN:VEVENT
DTSTART;TZID=Europe/Paris:20251212T000000
DTEND;TZID=Europe/Paris:20251214T235959
DTSTAMP:20260425T232436
CREATED:20250110T131341Z
LAST-MODIFIED:20250521T190805Z
UID:1108-1765497600-1765756799@modellbahnclub-hoyerswerda.de
SUMMARY:Teschenmarkt Hoyerswerda (Weihnachtsmarkt)
DESCRIPTION:Wie jedes Jahr wird zum dritten Advent der Teschenmarkt (Weihnachtsmarkt) der Stadt Hoyerswerda abgehalten.2024 hatten wir dazu parallel im Schlosssaal eine Modellbahnausstellung. Wenn uns im diesen Jahr andere Modellbahner der Stadt oder des Umlandes mit ihren privaten Anlagen unterstützen wollen\, sind diese willkommen. Dann werden wir gern wieder eine Ausstellung gemeinsam mit der Lausitzhalle organisieren. Vorgesehen ist entweder das Schloss oder der Lichthof des Rathauses. \n\n\n\nWir rufen also alle interessierten Modellbahner aus Hoyerswerda und dem (näheren) Umland auf\, wenn Ihr Eure Heimanlage(n) mal der Öffentlichkeit zeigen wollt\, meldet Euch bei uns und wir werden Euch auch beim Transport unterstützen.
URL:https://modellbahnclub-hoyerswerda.de/veranstaltung/teschenmarkt-hoyerswerda-weihnachtsmarkt/
CATEGORIES:Modellbahnausstellung
END:VEVENT
BEGIN:VEVENT
DTSTART;TZID=Europe/Paris:20251212T130000
DTEND;TZID=Europe/Paris:20251212T170000
DTSTAMP:20260425T232436
CREATED:20250110T124413Z
LAST-MODIFIED:20251110T162536Z
UID:1100-1765544400-1765558800@modellbahnclub-hoyerswerda.de
SUMMARY:Modellbahnausstellung zum Teschenmarkt im Schloss zu Hoyerswerda
DESCRIPTION:Wir wollen auch 2025 eine kleine Modellbahnausstellung parallel zum Teschenmarkt im Schlosssaal des Schlosses zu Hoyerswerda durchführen.Geöffnet ist am Freitag von 13 – 18 Uhr\, am Samstag von 10 bis 19 Uhr und Sonntag von 10 – 18 Uhr. Der Eintritt wird wie im Vorjahr frei sein\, aber für kleine Spenden wären wir dankbar. \n\n\n\nDazu haben wir Mittstreiter aus der Region\, die gern ihre Heimanlagen vieln Besuchern zeigen möchten\, gesucht und gefunden. Seid gespannt\, welche Schätze bisher nur im privaten „Kämmerlein“ zu sehen waren.
URL:https://modellbahnclub-hoyerswerda.de/veranstaltung/offene-modellbahnwerkstatt-13/
CATEGORIES:Modellbahnausstellung
ATTACH;FMTTYPE=image/jpeg:https://modellbahnclub-hoyerswerda.de/wp-content/uploads/2025/01/0Gesamtansicht-scaled.jpg
END:VEVENT
BEGIN:VEVENT
DTSTART;TZID=Europe/Paris:20251212T180000
DTEND;TZID=Europe/Paris:20251212T190000
DTSTAMP:20260425T232436
CREATED:20251111T181527Z
LAST-MODIFIED:20251111T181529Z
UID:1254-1765562400-1765566000@modellbahnclub-hoyerswerda.de
SUMMARY:"Lebendigen Adventskalender" zur Modellbahnausstellung
DESCRIPTION:In diesem Jahr besuchen die Teilnehmerinnen und Telnehmer – vor allem Kinder – unsere Modellbahnausstellung im Rahmen des „Lebendigen Adventskalenders“ der Johanneskirchengemeinde in der Altstadt von Hoyerswerda und werden dabei etwas Interessantes erfahren und mit und ins Gespräch kommen. Und eine kleine Leckerei gibt’s auch.
URL:https://modellbahnclub-hoyerswerda.de/veranstaltung/lebendigen-adventskalender-zur-modellbahnausstellung/
CATEGORIES:Modellbahnausstellung
ATTACH;FMTTYPE=image/jpeg:https://modellbahnclub-hoyerswerda.de/wp-content/uploads/2025/11/K1600_LebendigerAdventskalender2025-end.jpg
END:VEVENT
END:VCALENDAR