BEGIN:VCALENDAR
VERSION:2.0
PRODID:-//Modellbahnclub Hoyerswerda e. V. - ECPv6.15.15//NONSGML v1.0//EN
CALSCALE:GREGORIAN
METHOD:PUBLISH
X-ORIGINAL-URL:https://modellbahnclub-hoyerswerda.de
X-WR-CALDESC:Veranstaltungen für Modellbahnclub Hoyerswerda e. V.
REFRESH-INTERVAL;VALUE=DURATION:PT1H
X-Robots-Tag:noindex
X-PUBLISHED-TTL:PT1H
BEGIN:VTIMEZONE
TZID:Europe/Paris
BEGIN:DAYLIGHT
TZOFFSETFROM:+0100
TZOFFSETTO:+0200
TZNAME:CEST
DTSTART:20250330T010000
END:DAYLIGHT
BEGIN:STANDARD
TZOFFSETFROM:+0200
TZOFFSETTO:+0100
TZNAME:CET
DTSTART:20251026T010000
END:STANDARD
BEGIN:DAYLIGHT
TZOFFSETFROM:+0100
TZOFFSETTO:+0200
TZNAME:CEST
DTSTART:20260329T010000
END:DAYLIGHT
BEGIN:STANDARD
TZOFFSETFROM:+0200
TZOFFSETTO:+0100
TZNAME:CET
DTSTART:20261025T010000
END:STANDARD
BEGIN:DAYLIGHT
TZOFFSETFROM:+0100
TZOFFSETTO:+0200
TZNAME:CEST
DTSTART:20270328T010000
END:DAYLIGHT
BEGIN:STANDARD
TZOFFSETFROM:+0200
TZOFFSETTO:+0100
TZNAME:CET
DTSTART:20271031T010000
END:STANDARD
END:VTIMEZONE
BEGIN:VEVENT
DTSTART;TZID=Europe/Paris:20260117T100000
DTEND;TZID=Europe/Paris:20260118T170000
DTSTAMP:20260425T215726
CREATED:20260103T145330Z
LAST-MODIFIED:20260103T145332Z
UID:1325-1768644000-1768755600@modellbahnclub-hoyerswerda.de
SUMMARY:Modellbau-Tage bei Möbel Mahler in Siebenlehn
DESCRIPTION:Alle Jahre wieder die Modellbautage im Januar bei Möbel Mahler in Siebenlehn.  \n\n\n\nDiesmal am Wochenende 17./18.01.2026 \n\n\n\nÖffnungszeiten:Samstag 17.01.2026 – 10 Uhr bis 18 UhrSonntag 18.01.2026 – 11 Uhr bis 17 Uhr \n\n\n\n \n\n\n\nWir sind diese Jahr mit unserer TT-Anlage der Rohkohleverladung Tagebau Scheibe dabei.
URL:https://modellbahnclub-hoyerswerda.de/veranstaltung/modellbau-tage-bei-moebel-mahler-in-siebenlehn/
CATEGORIES:Modellbahnausstellung
ATTACH;FMTTYPE=image/jpeg:https://modellbahnclub-hoyerswerda.de/wp-content/uploads/2026/01/Veranstaltungsbild.jpg
END:VEVENT
END:VCALENDAR