BEGIN:VCALENDAR
VERSION:2.0
PRODID:-//Modellbahnclub Hoyerswerda e. V. - ECPv6.15.15//NONSGML v1.0//EN
CALSCALE:GREGORIAN
METHOD:PUBLISH
X-WR-CALNAME:Modellbahnclub Hoyerswerda e. V.
X-ORIGINAL-URL:https://modellbahnclub-hoyerswerda.de
X-WR-CALDESC:Veranstaltungen für Modellbahnclub Hoyerswerda e. V.
REFRESH-INTERVAL;VALUE=DURATION:PT1H
X-Robots-Tag:noindex
X-PUBLISHED-TTL:PT1H
BEGIN:VTIMEZONE
TZID:Europe/Paris
BEGIN:DAYLIGHT
TZOFFSETFROM:+0100
TZOFFSETTO:+0200
TZNAME:CEST
DTSTART:20250330T010000
END:DAYLIGHT
BEGIN:STANDARD
TZOFFSETFROM:+0200
TZOFFSETTO:+0100
TZNAME:CET
DTSTART:20251026T010000
END:STANDARD
BEGIN:DAYLIGHT
TZOFFSETFROM:+0100
TZOFFSETTO:+0200
TZNAME:CEST
DTSTART:20260329T010000
END:DAYLIGHT
BEGIN:STANDARD
TZOFFSETFROM:+0200
TZOFFSETTO:+0100
TZNAME:CET
DTSTART:20261025T010000
END:STANDARD
BEGIN:DAYLIGHT
TZOFFSETFROM:+0100
TZOFFSETTO:+0200
TZNAME:CEST
DTSTART:20270328T010000
END:DAYLIGHT
BEGIN:STANDARD
TZOFFSETFROM:+0200
TZOFFSETTO:+0100
TZNAME:CET
DTSTART:20271031T010000
END:STANDARD
END:VTIMEZONE
BEGIN:VEVENT
DTSTART;TZID=Europe/Paris:20260411T100000
DTEND;TZID=Europe/Paris:20260411T170000
DTSTAMP:20260425T160634
CREATED:20260103T134902Z
LAST-MODIFIED:20260103T134904Z
UID:1276-1775901600-1775926800@modellbahnclub-hoyerswerda.de
SUMMARY:offene Modellbahnwerkstatt
DESCRIPTION:Große und kleine Gäste sind uns in unseren Vereinsräumen in der Energiefabrik Knappenrode zur offenen Modellbahnwerkstatt herzlich willkommen.  \n\n\n\nNeben den wie gewohnt in Betrieb seienden Teil unserer Modellbahnanlagen werkeln wir an ihnen. Zum Plauschen mit unseren Gästen sind wir natürlich trotzdem gern bereit und geben ebenso gern Antworten zur großen und kleinen Bahn. \n\n\n\nDer Besuch unserer Räume ist natürlich kostenfrei\, jedoch ist für die Energiefabrik der übliche Eintritt zu zahlen.
URL:https://modellbahnclub-hoyerswerda.de/veranstaltung/offene-modellbahnwerkstatt-19/
CATEGORIES:Modellbahnwerkstatt
ATTACH;FMTTYPE=image/jpeg:https://modellbahnclub-hoyerswerda.de/wp-content/uploads/2025/05/Verladung_neu2017-2-scaled.jpg
END:VEVENT
END:VCALENDAR