BEGIN:VCALENDAR
VERSION:2.0
PRODID:-//Modellbahnclub Hoyerswerda e. V. - ECPv6.15.15//NONSGML v1.0//EN
CALSCALE:GREGORIAN
METHOD:PUBLISH
X-WR-CALNAME:Modellbahnclub Hoyerswerda e. V.
X-ORIGINAL-URL:https://modellbahnclub-hoyerswerda.de
X-WR-CALDESC:Veranstaltungen für Modellbahnclub Hoyerswerda e. V.
REFRESH-INTERVAL;VALUE=DURATION:PT1H
X-Robots-Tag:noindex
X-PUBLISHED-TTL:PT1H
BEGIN:VTIMEZONE
TZID:Europe/Paris
BEGIN:DAYLIGHT
TZOFFSETFROM:+0100
TZOFFSETTO:+0200
TZNAME:CEST
DTSTART:20250330T010000
END:DAYLIGHT
BEGIN:STANDARD
TZOFFSETFROM:+0200
TZOFFSETTO:+0100
TZNAME:CET
DTSTART:20251026T010000
END:STANDARD
BEGIN:DAYLIGHT
TZOFFSETFROM:+0100
TZOFFSETTO:+0200
TZNAME:CEST
DTSTART:20260329T010000
END:DAYLIGHT
BEGIN:STANDARD
TZOFFSETFROM:+0200
TZOFFSETTO:+0100
TZNAME:CET
DTSTART:20261025T010000
END:STANDARD
BEGIN:DAYLIGHT
TZOFFSETFROM:+0100
TZOFFSETTO:+0200
TZNAME:CEST
DTSTART:20270328T010000
END:DAYLIGHT
BEGIN:STANDARD
TZOFFSETFROM:+0200
TZOFFSETTO:+0100
TZNAME:CET
DTSTART:20271031T010000
END:STANDARD
END:VTIMEZONE
BEGIN:VEVENT
DTSTART;TZID=Europe/Paris:20260510T140000
DTEND;TZID=Europe/Paris:20260510T170000
DTSTAMP:20260425T174936
CREATED:20260414T165339Z
LAST-MODIFIED:20260414T165342Z
UID:1366-1778421600-1778432400@modellbahnclub-hoyerswerda.de
SUMMARY:Museumsfest - Historischer Jahrmarkt
DESCRIPTION:Wir sind dabei: \n\n\n\nAm 10. Mai von 14 bis 18 Uhr verwandelt sich das Schloss & Stadtmuseum Hoyerswerda in einen lebendigen Jahrmarkt für die ganze Familie. Beim Museumsfest in Hoyerswerda erwartet euch ein abwechslungsreiches Programm\, das Spiel\, Kreativität und Unterhaltung vereint. \n\n\n\nFamilienfest mit Jahrmarkt-Atmosphäre \n\n\n\nErlebt einen bunten Nachmittag im historischen Schloss:Kinder und Eltern können gemeinsam aktiv werden – ob beim Ringewerfen\, Dosenwerfen oder Münzenschlagen. Hier stehen Spaß\, Bewegung und gemeinsames Erleben im Mittelpunkt. \n\n\n\nProgramm für Kinder und Familien \n\n\n\nDas Museumsfest bietet zahlreiche Highlights für kleine Besucher: \n\n\n\n\nPuppentheater mit spannenden Geschichten\n\n\n\nMinikarussell für die jüngsten Gäste\n\n\n\nModellbahn zum Staunen und Entdecken\n\n\n\nKreativangebote für Kinder\, bei denen eigene Kunstwerke entstehen \n\n\n\n\nEin besonderes Erlebnis ist das Apfelsaftpressen\, bei dem Kinder spielerisch lernen\, wie aus Äpfeln frischer Saft entsteht. \n\n\n\nEssen\, Naschen & gute Laune \n\n\n\nNatürlich darf auch der Genuss nicht fehlen: Freuen Sie sich auf süße Naschereien und eine fröhliche Atmosphäre. Für zusätzliche Stimmung sorgt der Hoyerswerdaer Karneval Club. \n\n\n\nEintritt & Infos \n\n\n\nEintritt: 6 € Erwachsene / 3 € Kinder
URL:https://modellbahnclub-hoyerswerda.de/veranstaltung/museumsfest-historischer-jahrmarkt/
ATTACH;FMTTYPE=image/jpeg:https://modellbahnclub-hoyerswerda.de/wp-content/uploads/2026/04/Museumsfest1.jpg
END:VEVENT
END:VCALENDAR