BEGIN:VCALENDAR
VERSION:2.0
PRODID:-//Modellbahnclub Hoyerswerda e. V. - ECPv6.15.15//NONSGML v1.0//EN
CALSCALE:GREGORIAN
METHOD:PUBLISH
X-WR-CALNAME:Modellbahnclub Hoyerswerda e. V.
X-ORIGINAL-URL:https://modellbahnclub-hoyerswerda.de
X-WR-CALDESC:Veranstaltungen für Modellbahnclub Hoyerswerda e. V.
REFRESH-INTERVAL;VALUE=DURATION:PT1H
X-Robots-Tag:noindex
X-PUBLISHED-TTL:PT1H
BEGIN:VTIMEZONE
TZID:Europe/Paris
BEGIN:DAYLIGHT
TZOFFSETFROM:+0100
TZOFFSETTO:+0200
TZNAME:CEST
DTSTART:20250330T010000
END:DAYLIGHT
BEGIN:STANDARD
TZOFFSETFROM:+0200
TZOFFSETTO:+0100
TZNAME:CET
DTSTART:20251026T010000
END:STANDARD
BEGIN:DAYLIGHT
TZOFFSETFROM:+0100
TZOFFSETTO:+0200
TZNAME:CEST
DTSTART:20260329T010000
END:DAYLIGHT
BEGIN:STANDARD
TZOFFSETFROM:+0200
TZOFFSETTO:+0100
TZNAME:CET
DTSTART:20261025T010000
END:STANDARD
BEGIN:DAYLIGHT
TZOFFSETFROM:+0100
TZOFFSETTO:+0200
TZNAME:CEST
DTSTART:20270328T010000
END:DAYLIGHT
BEGIN:STANDARD
TZOFFSETFROM:+0200
TZOFFSETTO:+0100
TZNAME:CET
DTSTART:20271031T010000
END:STANDARD
END:VTIMEZONE
BEGIN:VEVENT
DTSTART;TZID=Europe/Paris:20260612T140000
DTEND;TZID=Europe/Paris:20260612T180000
DTSTAMP:20260425T194854
CREATED:20260414T165816Z
LAST-MODIFIED:20260414T165818Z
UID:1369-1781272800-1781287200@modellbahnclub-hoyerswerda.de
SUMMARY:Hobbymesse in der Stadt-BiBo Hoyerswerda
DESCRIPTION:Wir sind dabei:\n\n\n\n\n\nHobbys entdecken\, Menschen treffen\, Inspiration finden!  \n\n\n\nAm Freitag\, den 12. Juni 2026\, von 14:00 bis 18:00 Uhr wird die Brigitte-Reimann-Stadtbibliothek zum Treffpunkt für alle\, die ihre Freizeit lieben – und sie gern mit anderen teilen möchten. \n\n\n\nZum ersten Mal lädt die Bibliothek zur Hobbymesse ein! Freut euch auf einen bunten Nachmittag voller Ideen\, Kreativität und spannender Begegnungen. Egal ob ihr auf der Suche nach einem neuen Hobby seid oder einfach neugierig stöbern möchtet – hier gibt es jede Menge zu entdecken.
URL:https://modellbahnclub-hoyerswerda.de/veranstaltung/hobbymesse-in-der-stadt-bibo-hoyerswerda/
ATTACH;FMTTYPE=image/jpeg:https://modellbahnclub-hoyerswerda.de/wp-content/uploads/2026/04/Hobbymesse.jpg
END:VEVENT
END:VCALENDAR