BEGIN:VCALENDAR
VERSION:2.0
PRODID:-//Modellbahnclub Hoyerswerda e. V. - ECPv6.15.15//NONSGML v1.0//EN
CALSCALE:GREGORIAN
METHOD:PUBLISH
X-WR-CALNAME:Modellbahnclub Hoyerswerda e. V.
X-ORIGINAL-URL:https://modellbahnclub-hoyerswerda.de
X-WR-CALDESC:Veranstaltungen für Modellbahnclub Hoyerswerda e. V.
REFRESH-INTERVAL;VALUE=DURATION:PT1H
X-Robots-Tag:noindex
X-PUBLISHED-TTL:PT1H
BEGIN:VTIMEZONE
TZID:Europe/Paris
BEGIN:DAYLIGHT
TZOFFSETFROM:+0100
TZOFFSETTO:+0200
TZNAME:CEST
DTSTART:20240331T010000
END:DAYLIGHT
BEGIN:STANDARD
TZOFFSETFROM:+0200
TZOFFSETTO:+0100
TZNAME:CET
DTSTART:20241027T010000
END:STANDARD
BEGIN:DAYLIGHT
TZOFFSETFROM:+0100
TZOFFSETTO:+0200
TZNAME:CEST
DTSTART:20250330T010000
END:DAYLIGHT
BEGIN:STANDARD
TZOFFSETFROM:+0200
TZOFFSETTO:+0100
TZNAME:CET
DTSTART:20251026T010000
END:STANDARD
BEGIN:DAYLIGHT
TZOFFSETFROM:+0100
TZOFFSETTO:+0200
TZNAME:CEST
DTSTART:20260329T010000
END:DAYLIGHT
BEGIN:STANDARD
TZOFFSETFROM:+0200
TZOFFSETTO:+0100
TZNAME:CET
DTSTART:20261025T010000
END:STANDARD
BEGIN:DAYLIGHT
TZOFFSETFROM:+0100
TZOFFSETTO:+0200
TZNAME:CEST
DTSTART:20270328T010000
END:DAYLIGHT
BEGIN:STANDARD
TZOFFSETFROM:+0200
TZOFFSETTO:+0100
TZNAME:CET
DTSTART:20271031T010000
END:STANDARD
END:VTIMEZONE
BEGIN:VEVENT
DTSTART;TZID=Europe/Paris:20260412T100000
DTEND;TZID=Europe/Paris:20260412T170000
DTSTAMP:20260425T174848
CREATED:20260103T135010Z
LAST-MODIFIED:20260103T135012Z
UID:1278-1775988000-1776013200@modellbahnclub-hoyerswerda.de
SUMMARY:offene Modellbahnwerkstatt
DESCRIPTION:Große und kleine Gäste sind uns in unseren Vereinsräumen in der Energiefabrik Knappenrode zur offenen Modellbahnwerkstatt herzlich willkommen.  \n\n\n\nNeben den wie gewohnt in Betrieb seienden Teil unserer Modellbahnanlagen werkeln wir an ihnen. Zum Plauschen mit unseren Gästen sind wir natürlich trotzdem gern bereit und geben ebenso gern Antworten zur großen und kleinen Bahn. \n\n\n\nDer Besuch unserer Räume ist natürlich kostenfrei\, jedoch ist für die Energiefabrik der übliche Eintritt zu zahlen.
URL:https://modellbahnclub-hoyerswerda.de/veranstaltung/offene-modellbahnwerkstatt-20/
CATEGORIES:Modellbahnwerkstatt
ATTACH;FMTTYPE=image/jpeg:https://modellbahnclub-hoyerswerda.de/wp-content/uploads/2025/05/Verladung_neu2017-2-scaled.jpg
END:VEVENT
BEGIN:VEVENT
DTSTART;TZID=Europe/Paris:20260411T100000
DTEND;TZID=Europe/Paris:20260411T170000
DTSTAMP:20260425T174848
CREATED:20260103T134902Z
LAST-MODIFIED:20260103T134904Z
UID:1276-1775901600-1775926800@modellbahnclub-hoyerswerda.de
SUMMARY:offene Modellbahnwerkstatt
DESCRIPTION:Große und kleine Gäste sind uns in unseren Vereinsräumen in der Energiefabrik Knappenrode zur offenen Modellbahnwerkstatt herzlich willkommen.  \n\n\n\nNeben den wie gewohnt in Betrieb seienden Teil unserer Modellbahnanlagen werkeln wir an ihnen. Zum Plauschen mit unseren Gästen sind wir natürlich trotzdem gern bereit und geben ebenso gern Antworten zur großen und kleinen Bahn. \n\n\n\nDer Besuch unserer Räume ist natürlich kostenfrei\, jedoch ist für die Energiefabrik der übliche Eintritt zu zahlen.
URL:https://modellbahnclub-hoyerswerda.de/veranstaltung/offene-modellbahnwerkstatt-19/
CATEGORIES:Modellbahnwerkstatt
ATTACH;FMTTYPE=image/jpeg:https://modellbahnclub-hoyerswerda.de/wp-content/uploads/2025/05/Verladung_neu2017-2-scaled.jpg
END:VEVENT
BEGIN:VEVENT
DTSTART;TZID=Europe/Paris:20260328T100000
DTEND;TZID=Europe/Paris:20260328T150000
DTSTAMP:20260425T174848
CREATED:20260104T203850Z
LAST-MODIFIED:20260104T203852Z
UID:1349-1774692000-1774710000@modellbahnclub-hoyerswerda.de
SUMMARY:Arbeitseinsatz in der Energiefabrik
DESCRIPTION:Wir beteiligen uns am Arbeitseinsatz/Frühjahrsputz auf dem Außengeländer der Energiefabrik
URL:https://modellbahnclub-hoyerswerda.de/veranstaltung/arbeitseinsatz-in-der-energiefabrik/
CATEGORIES:sonstige Veranstaltungen in der Energiefabrik
ATTACH;FMTTYPE=image/jpeg:https://modellbahnclub-hoyerswerda.de/wp-content/uploads/2025/05/Verladung_neu2017-2-scaled.jpg
END:VEVENT
BEGIN:VEVENT
DTSTART;TZID=Europe/Paris:20260315T100000
DTEND;TZID=Europe/Paris:20260315T170000
DTSTAMP:20260425T174848
CREATED:20260103T134736Z
LAST-MODIFIED:20260103T134739Z
UID:1273-1773568800-1773594000@modellbahnclub-hoyerswerda.de
SUMMARY:offene Modellbahnwerkstatt
DESCRIPTION:Große und kleine Gäste sind uns in unseren Vereinsräumen in der Energiefabrik Knappenrode zur offenen Modellbahnwerkstatt herzlich willkommen.  \n\n\n\nNeben den wie gewohnt in Betrieb seienden Teil unserer Modellbahnanlagen werkeln wir an ihnen. Zum Plauschen mit unseren Gästen sind wir natürlich trotzdem gern bereit und geben ebenso gern Antworten zur großen und kleinen Bahn. \n\n\n\nDer Besuch unserer Räume ist natürlich kostenfrei\, jedoch ist für die Energiefabrik der übliche Eintritt zu zahlen.
URL:https://modellbahnclub-hoyerswerda.de/veranstaltung/offene-modellbahnwerkstatt-18/
CATEGORIES:Modellbahnwerkstatt
ATTACH;FMTTYPE=image/jpeg:https://modellbahnclub-hoyerswerda.de/wp-content/uploads/2025/05/Verladung_neu2017-2-scaled.jpg
END:VEVENT
BEGIN:VEVENT
DTSTART;TZID=Europe/Paris:20260314T100000
DTEND;TZID=Europe/Paris:20260314T170000
DTSTAMP:20260425T174848
CREATED:20260103T134634Z
LAST-MODIFIED:20260103T134636Z
UID:1271-1773482400-1773507600@modellbahnclub-hoyerswerda.de
SUMMARY:offene Modellbahnwerkstatt
DESCRIPTION:Große und kleine Gäste sind uns in unseren Vereinsräumen in der Energiefabrik Knappenrode zur offenen Modellbahnwerkstatt herzlich willkommen.  \n\n\n\nNeben den wie gewohnt in Betrieb seienden Teil unserer Modellbahnanlagen werkeln wir an ihnen. Zum Plauschen mit unseren Gästen sind wir natürlich trotzdem gern bereit und geben ebenso gern Antworten zur großen und kleinen Bahn. \n\n\n\nDer Besuch unserer Räume ist natürlich kostenfrei\, jedoch ist für die Energiefabrik der übliche Eintritt zu zahlen.
URL:https://modellbahnclub-hoyerswerda.de/veranstaltung/offene-modellbahnwerkstatt-17/
CATEGORIES:Modellbahnwerkstatt
ATTACH;FMTTYPE=image/jpeg:https://modellbahnclub-hoyerswerda.de/wp-content/uploads/2025/05/Verladung_neu2017-2-scaled.jpg
END:VEVENT
BEGIN:VEVENT
DTSTART;TZID=Europe/Paris:20260308T100000
DTEND;TZID=Europe/Paris:20260308T170000
DTSTAMP:20260425T174848
CREATED:20260128T211649Z
LAST-MODIFIED:20260128T211854Z
UID:1353-1772964000-1772989200@modellbahnclub-hoyerswerda.de
SUMMARY:Faszination Modellbahn 2026 Mannheim
DESCRIPTION:… und wir nehmen mit unserer TT-Anlage „Rohkohleverladung Tagebau Scheibe“ teil.Stand 1212
URL:https://modellbahnclub-hoyerswerda.de/veranstaltung/faszination-modellbahn-2026-mannheim/
CATEGORIES:Modellbahnausstellung
ATTACH;FMTTYPE=image/jpeg:https://modellbahnclub-hoyerswerda.de/wp-content/uploads/2026/01/Logo_faszination_modellbahn_RGB.jpg
END:VEVENT
BEGIN:VEVENT
DTSTART;TZID=Europe/Paris:20260215T100000
DTEND;TZID=Europe/Paris:20260215T170000
DTSTAMP:20260425T174848
CREATED:20260103T134519Z
LAST-MODIFIED:20260103T134520Z
UID:1269-1771149600-1771174800@modellbahnclub-hoyerswerda.de
SUMMARY:offene Modellbahnwerkstatt
DESCRIPTION:Große und kleine Gäste sind uns in unseren Vereinsräumen in der Energiefabrik Knappenrode zur offenen Modellbahnwerkstatt herzlich willkommen.  \n\n\n\nNeben den wie gewohnt in Betrieb seienden Teil unserer Modellbahnanlagen werkeln wir an ihnen. Zum Plauschen mit unseren Gästen sind wir natürlich trotzdem gern bereit und geben ebenso gern Antworten zur großen und kleinen Bahn. \n\n\n\nDer Besuch unserer Räume ist natürlich kostenfrei\, jedoch ist für die Energiefabrik der übliche Eintritt zu zahlen.
URL:https://modellbahnclub-hoyerswerda.de/veranstaltung/offene-modellbahnwerkstatt-16/
CATEGORIES:Modellbahnwerkstatt
ATTACH;FMTTYPE=image/jpeg:https://modellbahnclub-hoyerswerda.de/wp-content/uploads/2025/05/Verladung_neu2017-2-scaled.jpg
END:VEVENT
BEGIN:VEVENT
DTSTART;TZID=Europe/Paris:20260214T100000
DTEND;TZID=Europe/Paris:20260214T170000
DTSTAMP:20260425T174848
CREATED:20260103T134018Z
LAST-MODIFIED:20260103T134309Z
UID:1265-1771063200-1771088400@modellbahnclub-hoyerswerda.de
SUMMARY:offene Modellbahnwerkstatt
DESCRIPTION:Große und kleine Gäste sind uns in unseren Vereinsräumen in der Energiefabrik Knappenrode zur offenen Modellbahnwerkstatt herzlich willkommen.  \n\n\n\nNeben den wie gewohnt in Betrieb seienden Teil unserer Modellbahnanlagen werkeln wir an ihnen. Zum Plauschen mit unseren Gästen sind wir natürlich trotzdem gern bereit und geben ebenso gern Antworten zur großen und kleinen Bahn. \n\n\n\nDer Besuch unserer Räume ist natürlich kostenfrei\, jedoch ist für die Energiefabrik der übliche Eintritt zu zahlen.
URL:https://modellbahnclub-hoyerswerda.de/veranstaltung/offene-modellbahnwerkstatt-10/
CATEGORIES:Modellbahnwerkstatt
ATTACH;FMTTYPE=image/jpeg:https://modellbahnclub-hoyerswerda.de/wp-content/uploads/2025/05/Verladung_neu2017-2-scaled.jpg
END:VEVENT
BEGIN:VEVENT
DTSTART;TZID=Europe/Paris:20260130T170000
DTEND;TZID=Europe/Paris:20260130T190000
DTSTAMP:20260425T174848
CREATED:20251202T233139Z
LAST-MODIFIED:20251202T233142Z
UID:1261-1769792400-1769799600@modellbahnclub-hoyerswerda.de
SUMMARY:Jahresmitgliederversammlung
DESCRIPTION:satzungsgemäße Jahres-Mitglieder-Versammlung
URL:https://modellbahnclub-hoyerswerda.de/veranstaltung/jahresmitgliederversammlung-2/
CATEGORIES:Versammlung
ATTACH;FMTTYPE=image/jpeg:https://modellbahnclub-hoyerswerda.de/wp-content/uploads/2025/05/Verladung_neu2017-2-scaled.jpg
END:VEVENT
BEGIN:VEVENT
DTSTART;TZID=Europe/Paris:20260128T100000
DTEND;TZID=Europe/Paris:20260128T100000
DTSTAMP:20260425T174848
CREATED:20260103T150253Z
LAST-MODIFIED:20260128T211147Z
UID:1328-1769594400-1769594400@modellbahnclub-hoyerswerda.de
SUMMARY:20. Erlebnis Modellbahn des MEC Pirna in der Messe Dresden
DESCRIPTION:MEC Pirna 20. Erlebnis Modellbahn \n\n\n\n… Und wir sind mit unserer Vereins-TT-Anlage „Ost-West“ dabei.Unser Vereinsmitglied Heinz stellt außerdem seine N-Heimanlage „Kleinstadt mit BW“ aus.
URL:https://modellbahnclub-hoyerswerda.de/veranstaltung/20-erlebnis-modellbahn-des-mec-pirna-in-der-messe-dresden/
CATEGORIES:Modellbahnausstellung
ATTACH;FMTTYPE=image/jpeg:https://modellbahnclub-hoyerswerda.de/wp-content/uploads/2026/01/Plakat.jpg
END:VEVENT
BEGIN:VEVENT
DTSTART;TZID=Europe/Paris:20260117T100000
DTEND;TZID=Europe/Paris:20260118T170000
DTSTAMP:20260425T174848
CREATED:20260103T145330Z
LAST-MODIFIED:20260103T145332Z
UID:1325-1768644000-1768755600@modellbahnclub-hoyerswerda.de
SUMMARY:Modellbau-Tage bei Möbel Mahler in Siebenlehn
DESCRIPTION:Alle Jahre wieder die Modellbautage im Januar bei Möbel Mahler in Siebenlehn.  \n\n\n\nDiesmal am Wochenende 17./18.01.2026 \n\n\n\nÖffnungszeiten:Samstag 17.01.2026 – 10 Uhr bis 18 UhrSonntag 18.01.2026 – 11 Uhr bis 17 Uhr \n\n\n\n \n\n\n\nWir sind diese Jahr mit unserer TT-Anlage der Rohkohleverladung Tagebau Scheibe dabei.
URL:https://modellbahnclub-hoyerswerda.de/veranstaltung/modellbau-tage-bei-moebel-mahler-in-siebenlehn/
CATEGORIES:Modellbahnausstellung
ATTACH;FMTTYPE=image/jpeg:https://modellbahnclub-hoyerswerda.de/wp-content/uploads/2026/01/Veranstaltungsbild.jpg
END:VEVENT
BEGIN:VEVENT
DTSTART;TZID=Europe/Paris:20251214T100000
DTEND;TZID=Europe/Paris:20251214T180000
DTSTAMP:20260425T174848
CREATED:20251110T162720Z
LAST-MODIFIED:20251110T162723Z
UID:1251-1765706400-1765735200@modellbahnclub-hoyerswerda.de
SUMMARY:Modellbahnausstellung zum Teschenmarkt im Schloss zu Hoyerswerda
DESCRIPTION:Wir wollen auch 2025 eine kleine Modellbahnausstellung parallel zum Teschenmarkt im Schlosssaal des Schlosses zu Hoyerswerda durchführen.Geöffnet ist am Freitag von 13 – 18 Uhr\, am Samstag von 10 bis 19 Uhr und Sonntag von 10 – 18 Uhr. Der Eintritt wird wie im Vorjahr frei sein\, aber für kleine Spenden wären wir dankbar. \n\n\n\nDazu haben wir Mittstreiter aus der Region\, die gern ihre Heimanlagen vieln Besuchern zeigen möchten\, gesucht und gefunden. Seid gespannt\, welche Schätze bisher nur im privaten „Kämmerlein“ zu sehen waren.
URL:https://modellbahnclub-hoyerswerda.de/veranstaltung/modellbahnausstellung-zum-teschenmarkt-im-schloss-zu-hoyerswerda-2/
ATTACH;FMTTYPE=image/jpeg:https://modellbahnclub-hoyerswerda.de/wp-content/uploads/2025/11/Bild1-scaled.jpg
END:VEVENT
BEGIN:VEVENT
DTSTART;TZID=Europe/Paris:20251213T100000
DTEND;TZID=Europe/Paris:20251213T190000
DTSTAMP:20260425T174848
CREATED:20251110T162335Z
LAST-MODIFIED:20251110T162505Z
UID:1246-1765620000-1765652400@modellbahnclub-hoyerswerda.de
SUMMARY:Modellbahnausstellung zum Teschenmarkt im Schloss zu Hoyerswerda
DESCRIPTION:Wir wollen auch 2025 eine kleine Modellbahnausstellung parallel zum Teschenmarkt im Schlosssaal des Schlosses zu Hoyerswerda durchführen.Geöffnet ist am Freitag von 13 – 18 Uhr\, am Samstag von 10 bis 19 Uhr und Sonntag von 10 – 18 Uhr. Der Eintritt wird wie im Vorjahr frei sein\, aber für kleine Spenden wären wir dankbar. \n\n\n\nDazu haben wir Mittstreiter aus der Region\, die gern ihre Heimanlagen vieln Besuchern zeigen möchten\, gesucht und gefunden. Seid gespannt\, welche Schätze bisher nur im privaten „Kämmerlein“ zu sehen waren.
URL:https://modellbahnclub-hoyerswerda.de/veranstaltung/modellbahnausstellung-zum-teschenmarkt-im-schloss-zu-hoyerswerda/
CATEGORIES:Modellbahnausstellung
ATTACH;FMTTYPE=image/jpeg:https://modellbahnclub-hoyerswerda.de/wp-content/uploads/2025/11/Bild1-scaled.jpg
END:VEVENT
BEGIN:VEVENT
DTSTART;TZID=Europe/Paris:20251212T180000
DTEND;TZID=Europe/Paris:20251212T190000
DTSTAMP:20260425T174848
CREATED:20251111T181527Z
LAST-MODIFIED:20251111T181529Z
UID:1254-1765562400-1765566000@modellbahnclub-hoyerswerda.de
SUMMARY:"Lebendigen Adventskalender" zur Modellbahnausstellung
DESCRIPTION:In diesem Jahr besuchen die Teilnehmerinnen und Telnehmer – vor allem Kinder – unsere Modellbahnausstellung im Rahmen des „Lebendigen Adventskalenders“ der Johanneskirchengemeinde in der Altstadt von Hoyerswerda und werden dabei etwas Interessantes erfahren und mit und ins Gespräch kommen. Und eine kleine Leckerei gibt’s auch.
URL:https://modellbahnclub-hoyerswerda.de/veranstaltung/lebendigen-adventskalender-zur-modellbahnausstellung/
CATEGORIES:Modellbahnausstellung
ATTACH;FMTTYPE=image/jpeg:https://modellbahnclub-hoyerswerda.de/wp-content/uploads/2025/11/K1600_LebendigerAdventskalender2025-end.jpg
END:VEVENT
BEGIN:VEVENT
DTSTART;TZID=Europe/Paris:20251212T130000
DTEND;TZID=Europe/Paris:20251212T170000
DTSTAMP:20260425T174848
CREATED:20250110T124413Z
LAST-MODIFIED:20251110T162536Z
UID:1100-1765544400-1765558800@modellbahnclub-hoyerswerda.de
SUMMARY:Modellbahnausstellung zum Teschenmarkt im Schloss zu Hoyerswerda
DESCRIPTION:Wir wollen auch 2025 eine kleine Modellbahnausstellung parallel zum Teschenmarkt im Schlosssaal des Schlosses zu Hoyerswerda durchführen.Geöffnet ist am Freitag von 13 – 18 Uhr\, am Samstag von 10 bis 19 Uhr und Sonntag von 10 – 18 Uhr. Der Eintritt wird wie im Vorjahr frei sein\, aber für kleine Spenden wären wir dankbar. \n\n\n\nDazu haben wir Mittstreiter aus der Region\, die gern ihre Heimanlagen vieln Besuchern zeigen möchten\, gesucht und gefunden. Seid gespannt\, welche Schätze bisher nur im privaten „Kämmerlein“ zu sehen waren.
URL:https://modellbahnclub-hoyerswerda.de/veranstaltung/offene-modellbahnwerkstatt-13/
CATEGORIES:Modellbahnausstellung
ATTACH;FMTTYPE=image/jpeg:https://modellbahnclub-hoyerswerda.de/wp-content/uploads/2025/01/0Gesamtansicht-scaled.jpg
END:VEVENT
BEGIN:VEVENT
DTSTART;TZID=Europe/Paris:20251212T000000
DTEND;TZID=Europe/Paris:20251214T235959
DTSTAMP:20260425T174848
CREATED:20250110T131341Z
LAST-MODIFIED:20250521T190805Z
UID:1108-1765497600-1765756799@modellbahnclub-hoyerswerda.de
SUMMARY:Teschenmarkt Hoyerswerda (Weihnachtsmarkt)
DESCRIPTION:Wie jedes Jahr wird zum dritten Advent der Teschenmarkt (Weihnachtsmarkt) der Stadt Hoyerswerda abgehalten.2024 hatten wir dazu parallel im Schlosssaal eine Modellbahnausstellung. Wenn uns im diesen Jahr andere Modellbahner der Stadt oder des Umlandes mit ihren privaten Anlagen unterstützen wollen\, sind diese willkommen. Dann werden wir gern wieder eine Ausstellung gemeinsam mit der Lausitzhalle organisieren. Vorgesehen ist entweder das Schloss oder der Lichthof des Rathauses. \n\n\n\nWir rufen also alle interessierten Modellbahner aus Hoyerswerda und dem (näheren) Umland auf\, wenn Ihr Eure Heimanlage(n) mal der Öffentlichkeit zeigen wollt\, meldet Euch bei uns und wir werden Euch auch beim Transport unterstützen.
URL:https://modellbahnclub-hoyerswerda.de/veranstaltung/teschenmarkt-hoyerswerda-weihnachtsmarkt/
CATEGORIES:Modellbahnausstellung
END:VEVENT
BEGIN:VEVENT
DTSTART;TZID=Europe/Paris:20251109T100000
DTEND;TZID=Europe/Paris:20251109T170000
DTSTAMP:20260425T174848
CREATED:20250110T124142Z
LAST-MODIFIED:20250903T221958Z
UID:1096-1762682400-1762707600@modellbahnclub-hoyerswerda.de
SUMMARY:offene Modellbahnwerkstatt zum Herrnhuter Fabrik.Leuchten
DESCRIPTION:Geniesen Sie ca. 1.000 der großartigen Herrnhuter Sterne in der gesamten Energiefabrik und gleichzeitig auch unsere kleine Modellbahnwerkstatt. \n\n\n\nGroße und kleine Gäste sind uns in unseren Vereinsräumen in der Energiefabrik Knappenrode zur offenen Modellbahnwerkstatt herzlich willkommen.  \n\n\n\nNeben den wie gewohnt in Betrieb seienden Teil unserer Modellbahnanlagen werkeln wir an ihnen. Zum Plauschen mit unseren Gästen sind wir natürlich trotzdem gern bereit und geben ebenso gern Antworten zur großen und kleinen Bahn. \n\n\n\nDer Besuch unserer Räume ist natürlich kostenfrei\, jedoch ist für die Energiefabrik der Eintritt zu zahlen.
URL:https://modellbahnclub-hoyerswerda.de/veranstaltung/offene-modellbahnwerkstatt-12/
CATEGORIES:Modellbahnwerkstatt
END:VEVENT
BEGIN:VEVENT
DTSTART;TZID=Europe/Paris:20251108T153000
DTEND;TZID=Europe/Paris:20251108T220000
DTSTAMP:20260425T174848
CREATED:20250903T221751Z
LAST-MODIFIED:20250903T222109Z
UID:1189-1762615800-1762639200@modellbahnclub-hoyerswerda.de
SUMMARY:offene Modellbahnwerkstatt zum Herrnhuter Fabrik.Leuchten
DESCRIPTION:Geniesen Sie ca. 1.000 der großartigen Herrnhuter Sterne in der gesamten Energiefabrik und gleichzeitig auch unsere kleine Modellbahnwerkstatt. \n\n\n\nGroße und kleine Gäste sind uns in unseren Vereinsräumen in der Energiefabrik Knappenrode zur offenen Modellbahnwerkstatt herzlich willkommen.  \n\n\n\nNeben den wie gewohnt in Betrieb seienden Teil unserer Modellbahnanlagen werkeln wir an ihnen. Zum Plauschen mit unseren Gästen sind wir natürlich trotzdem gern bereit und geben ebenso gern Antworten zur großen und kleinen Bahn. \n\n\n\nDer Besuch unserer Räume ist natürlich kostenfrei\, jedoch ist für die Energiefabrik der Eintritt zu zahlen.
URL:https://modellbahnclub-hoyerswerda.de/veranstaltung/offene-modellbahnwerkstatt-zum-herrnhuter-fabrik-leuchten-2/
CATEGORIES:Modellbahnwerkstatt
END:VEVENT
BEGIN:VEVENT
DTSTART;TZID=Europe/Paris:20251107T153000
DTEND;TZID=Europe/Paris:20251107T220000
DTSTAMP:20260425T174848
CREATED:20250903T221031Z
LAST-MODIFIED:20250903T221950Z
UID:1187-1762529400-1762552800@modellbahnclub-hoyerswerda.de
SUMMARY:offene Modellbahnwerkstatt zum Herrnhuter Fabrik.Leuchten
DESCRIPTION:Geniesen Sie ca. 1.000 der großartigen Herrnhuter Sterne in der gesamten Energiefabrik und gleichzeitig auch unsere kleine Modellbahnwerkstatt. \n\n\n\nGroße und kleine Gäste sind uns in unseren Vereinsräumen in der Energiefabrik Knappenrode zur offenen Modellbahnwerkstatt herzlich willkommen.  \n\n\n\nNeben den wie gewohnt in Betrieb seienden Teil unserer Modellbahnanlagen werkeln wir an ihnen. Zum Plauschen mit unseren Gästen sind wir natürlich trotzdem gern bereit und geben ebenso gern Antworten zur großen und kleinen Bahn. \n\n\n\nDer Besuch unserer Räume ist natürlich kostenfrei\, jedoch ist für die Energiefabrik der Eintritt zu zahlen.
URL:https://modellbahnclub-hoyerswerda.de/veranstaltung/offene-modellbahnwerkstatt-zum-herrnhuter-fabrik-leuchten/
CATEGORIES:Modellbahnwerkstatt
END:VEVENT
BEGIN:VEVENT
DTSTART;TZID=Europe/Paris:20251106T153000
DTEND;TZID=Europe/Paris:20251106T220000
DTSTAMP:20260425T174848
CREATED:20250110T124049Z
LAST-MODIFIED:20250903T222017Z
UID:1094-1762443000-1762466400@modellbahnclub-hoyerswerda.de
SUMMARY:offene Modellbahnwerkstatt zum Herrnhuter Fabrik.Leuchten
DESCRIPTION:Geniesen Sie ca. 1.000 der großartigen Herrnhuter Sterne in der gesamten Energiefabrik und gleichzeitig auch unsere kleine Modellbahnwerkstatt. \n\n\n\nGroße und kleine Gäste sind uns in unseren Vereinsräumen in der Energiefabrik Knappenrode zur offenen Modellbahnwerkstatt herzlich willkommen.  \n\n\n\nNeben den wie gewohnt in Betrieb seienden Teil unserer Modellbahnanlagen werkeln wir an ihnen. Zum Plauschen mit unseren Gästen sind wir natürlich trotzdem gern bereit und geben ebenso gern Antworten zur großen und kleinen Bahn. \n\n\n\nDer Besuch unserer Räume ist natürlich kostenfrei\, jedoch ist für die Energiefabrik der Eintritt zu zahlen.
URL:https://modellbahnclub-hoyerswerda.de/veranstaltung/offene-modellbahnwerkstatt-11/
CATEGORIES:Modellbahnwerkstatt
END:VEVENT
BEGIN:VEVENT
DTSTART;TZID=Europe/Paris:20251011T100000
DTEND;TZID=Europe/Paris:20251011T100000
DTSTAMP:20260425T174848
CREATED:20250110T123619Z
LAST-MODIFIED:20251008T172851Z
UID:1090-1760176800-1760176800@modellbahnclub-hoyerswerda.de
SUMMARY:offene Modellbahnwerkstatt - abgesagt
DESCRIPTION:Die Energiefabrik Knappenrode lädt zwar an diesem Tag zur Ausstellungseröffnung zum Thema „Knappensee“ ein\, jedoch müssen wir unsere offene Modellbahnwerkstatt leider absagen. \n\n\n\nSiehe hierzu auch die Homepage der Energiefabrik:https://www.energiefabrik-knappenrode.de/
URL:https://modellbahnclub-hoyerswerda.de/veranstaltung/offene-modellbahnwerkstatt-zum-herbst-feuer-fast-der-energiefabrik/
CATEGORIES:Modellbahnwerkstatt
END:VEVENT
BEGIN:VEVENT
DTSTART;TZID=Europe/Paris:20250921T100000
DTEND;TZID=Europe/Paris:20250921T170000
DTSTAMP:20260425T174848
CREATED:20250521T183553Z
LAST-MODIFIED:20250521T225924Z
UID:1131-1758448800-1758474000@modellbahnclub-hoyerswerda.de
SUMMARY:offene Modellbahnwerkstatt
DESCRIPTION:Große und kleine Gäste sind uns in unseren Vereinsräumen in der Energiefabrik Knappenrode zur offenen Modellbahnwerkstatt herzlich willkommen.  \n\n\n\nNeben den wie gewohnt in Betrieb seienden Teil unserer Modellbahnanlagen werkeln wir an ihnen. Zum Plauschen mit unseren Gästen sind wir natürlich trotzdem gern bereit und geben ebenso gern Antworten zur großen und kleinen Bahn. \n\n\n\nDer Besuch unserer Räume ist natürlich kostenfrei\, jedoch ist für die Energiefabrik der übliche Eintritt zu zahlen.
URL:https://modellbahnclub-hoyerswerda.de/veranstaltung/offene-modellbahnwerkstatt-14/
CATEGORIES:Modellbahnwerkstatt
END:VEVENT
BEGIN:VEVENT
DTSTART;TZID=Europe/Paris:20250920T100000
DTEND;TZID=Europe/Paris:20250920T170000
DTSTAMP:20260425T174848
CREATED:20250521T183643Z
LAST-MODIFIED:20250521T230004Z
UID:1133-1758362400-1758387600@modellbahnclub-hoyerswerda.de
SUMMARY:offene Modellbahnwerkstatt
DESCRIPTION:Große und kleine Gäste sind uns in unseren Vereinsräumen in der Energiefabrik Knappenrode zur offenen Modellbahnwerkstatt herzlich willkommen.  \n\n\n\nNeben den wie gewohnt in Betrieb seienden Teil unserer Modellbahnanlagen werkeln wir an ihnen. Zum Plauschen mit unseren Gästen sind wir natürlich trotzdem gern bereit und geben ebenso gern Antworten zur großen und kleinen Bahn. \n\n\n\nDer Besuch unserer Räume ist natürlich kostenfrei\, jedoch ist für die Energiefabrik der übliche Eintritt zu zahlen.
URL:https://modellbahnclub-hoyerswerda.de/veranstaltung/offene-modellbahnwerkstatt-15/
CATEGORIES:Modellbahnwerkstatt
END:VEVENT
BEGIN:VEVENT
DTSTART;TZID=Europe/Paris:20250914T100000
DTEND;TZID=Europe/Paris:20250914T180000
DTSTAMP:20260425T174848
CREATED:20250903T223954Z
LAST-MODIFIED:20250903T223956Z
UID:1198-1757844000-1757872800@modellbahnclub-hoyerswerda.de
SUMMARY:Modellbahn trifft Tagebau - 26. Sächs. Landeserntedankfest
DESCRIPTION:In Hoyerswerda findet an diesem Wochenende das Sächsische Landeserntedankfest statt.Wir vom Modellbahnclub Hoyerswerda e.V. nehmen am Samstag und Sonntag im eine kleinen Modellbahnschau im Foyer der Agentur für Arbeit (Jobcenter) in der Hoyerswerda Einsteinstr. und auch am Sonntag am Festumzug teil.
URL:https://modellbahnclub-hoyerswerda.de/veranstaltung/modellbahn-trifft-tagebau-26-saechs-landeserntedankfest-2/
CATEGORIES:Modellbahnausstellung
END:VEVENT
BEGIN:VEVENT
DTSTART;TZID=Europe/Paris:20250913T100000
DTEND;TZID=Europe/Paris:20250913T180000
DTSTAMP:20260425T174848
CREATED:20250903T223827Z
LAST-MODIFIED:20250903T223829Z
UID:1196-1757757600-1757786400@modellbahnclub-hoyerswerda.de
SUMMARY:Modellbahn trifft Tagebau - 26. Sächs. Landeserntedankfest
DESCRIPTION:In Hoyerswerda findet an diesem Wochenende das Sächsische Landeserntedankfest statt.Wir vom Modellbahnclub Hoyerswerda e.V. nehmen am Samstag und Sonntag im eine kleinen Modellbahnschau im Foyer der Agentur für Arbeit (Jobcenter) in der Hoyerswerda Einsteinstr. und auch am Sonntag am Festumzug teil.
URL:https://modellbahnclub-hoyerswerda.de/veranstaltung/modellbahn-trifft-tagebau-26-saechs-landeserntedankfest/
CATEGORIES:Modellbahnausstellung
END:VEVENT
BEGIN:VEVENT
DTSTART;TZID=Europe/Paris:20250912T140000
DTEND;TZID=Europe/Paris:20250914T180000
DTSTAMP:20260425T174848
CREATED:20250521T185029Z
LAST-MODIFIED:20250903T224204Z
UID:1144-1757685600-1757872800@modellbahnclub-hoyerswerda.de
SUMMARY:26. Sächs. Landeserntedankfest
DESCRIPTION:In Hoyerswerda findet an diesem Wochenende das Sächsische Landeserntedankfest statt.Wir vom Modellbahnclub Hoyerswerda e.V. nehmen am Samstag und Sonntag im eine kleinen Modellbahnschau im Foyer der Agentur für Arbeit (Jobcenter) in der Hoyerswerda Einsteinstr. und auch am Sonntag am Festumzug teil.
URL:https://modellbahnclub-hoyerswerda.de/veranstaltung/saechs-landeserntadankfest/
CATEGORIES:Modellbahnausstellung
END:VEVENT
BEGIN:VEVENT
DTSTART;TZID=Europe/Paris:20250824T100000
DTEND;TZID=Europe/Paris:20250824T170000
DTSTAMP:20260425T174848
CREATED:20250110T123317Z
LAST-MODIFIED:20250110T123319Z
UID:1086-1756029600-1756054800@modellbahnclub-hoyerswerda.de
SUMMARY:offene Modellbahnwerkstatt
DESCRIPTION:Große und kleine Gäste sind uns in unseren Vereinsräumen in der Energiefabrik Knappenrode zur offenen Modellbahnwerkstatt herzlich willkommen.  \n\n\n\nNeben den wie gewohnt in Betrieb seienden Teil unserer Modellbahnanlagen werkeln wir an ihnen. Zum Plauschen mit unseren Gästen sind wir natürlich trotzdem gern bereit und geben ebenso gern Antworten zur großen und kleinen Bahn. \n\n\n\nDer Besuch unserer Räume ist natürlich kostenfrei\, jedoch ist für die Energiefabrik der übliche Eintritt zu zahlen.
URL:https://modellbahnclub-hoyerswerda.de/veranstaltung/offene-modellbahnwerkstatt-9/
CATEGORIES:Modellbahnwerkstatt
END:VEVENT
BEGIN:VEVENT
DTSTART;TZID=Europe/Paris:20250823T100000
DTEND;TZID=Europe/Paris:20250823T170000
DTSTAMP:20260425T174848
CREATED:20250110T123229Z
LAST-MODIFIED:20250110T123231Z
UID:1084-1755943200-1755968400@modellbahnclub-hoyerswerda.de
SUMMARY:offene Modellbahnwerkstatt
DESCRIPTION:Große und kleine Gäste sind uns in unseren Vereinsräumen in der Energiefabrik Knappenrode zur offenen Modellbahnwerkstatt herzlich willkommen.  \n\n\n\nNeben den wie gewohnt in Betrieb seienden Teil unserer Modellbahnanlagen werkeln wir an ihnen. Zum Plauschen mit unseren Gästen sind wir natürlich trotzdem gern bereit und geben ebenso gern Antworten zur großen und kleinen Bahn. \n\n\n\nDer Besuch unserer Räume ist natürlich kostenfrei\, jedoch ist für die Energiefabrik der übliche Eintritt zu zahlen.
URL:https://modellbahnclub-hoyerswerda.de/veranstaltung/offene-modellbahnwerkstatt-8/
CATEGORIES:Modellbahnwerkstatt
END:VEVENT
BEGIN:VEVENT
DTSTART;TZID=Europe/Paris:20250809T000000
DTEND;TZID=Europe/Paris:20250810T235959
DTSTAMP:20260425T174848
CREATED:20250110T130332Z
LAST-MODIFIED:20250110T130426Z
UID:1104-1754697600-1754870399@modellbahnclub-hoyerswerda.de
SUMMARY:22. Gartenbahn Treffen Süd- Niedersachsen in Eschershausen
DESCRIPTION:Von unserem Club nehmen nun schon zum 15. Male einige Gartenbahner mit einer kleinen Anlage und verschiedenen Ausstellungsstücken teil. \n\n\n\nSiehe auch hier einige Videos auf dem Kanal von Hagen mit Filmen aus vergangenen Jahren:https://www.youtube.com/@Stainz61/videos \n\n\n\nUnd auf der Homepage der IG LGB Freunde Ith:https://www.lgb-freunde.com/index.html
URL:https://modellbahnclub-hoyerswerda.de/veranstaltung/22-gartenbahn-treffen-sued-niedersachsen-in-eschershausen/
CATEGORIES:Modellbahnausstellung
ATTACH;FMTTYPE=image/gif:https://modellbahnclub-hoyerswerda.de/wp-content/uploads/2025/01/Plakat_2025_klein.gif
END:VEVENT
BEGIN:VEVENT
DTSTART;TZID=Europe/Paris:20250727T100000
DTEND;TZID=Europe/Paris:20250727T170000
DTSTAMP:20260425T174848
CREATED:20250110T123123Z
LAST-MODIFIED:20250110T123125Z
UID:1082-1753610400-1753635600@modellbahnclub-hoyerswerda.de
SUMMARY:offene Modellbahnwerkstatt
DESCRIPTION:Große und kleine Gäste sind uns in unseren Vereinsräumen in der Energiefabrik Knappenrode zur offenen Modellbahnwerkstatt herzlich willkommen.  \n\n\n\nNeben den wie gewohnt in Betrieb seienden Teil unserer Modellbahnanlagen werkeln wir an ihnen. Zum Plauschen mit unseren Gästen sind wir natürlich trotzdem gern bereit und geben ebenso gern Antworten zur großen und kleinen Bahn. \n\n\n\nDer Besuch unserer Räume ist natürlich kostenfrei\, jedoch ist für die Energiefabrik der übliche Eintritt zu zahlen.
URL:https://modellbahnclub-hoyerswerda.de/veranstaltung/offene-modellbahnwerkstatt-7/
CATEGORIES:Modellbahnwerkstatt
END:VEVENT
END:VCALENDAR