BEGIN:VCALENDAR
VERSION:2.0
PRODID:-//Modellbahnclub Hoyerswerda e. V. - ECPv6.15.15//NONSGML v1.0//EN
CALSCALE:GREGORIAN
METHOD:PUBLISH
X-WR-CALNAME:Modellbahnclub Hoyerswerda e. V.
X-ORIGINAL-URL:https://modellbahnclub-hoyerswerda.de
X-WR-CALDESC:Veranstaltungen für Modellbahnclub Hoyerswerda e. V.
REFRESH-INTERVAL;VALUE=DURATION:PT1H
X-Robots-Tag:noindex
X-PUBLISHED-TTL:PT1H
BEGIN:VTIMEZONE
TZID:Europe/Paris
BEGIN:DAYLIGHT
TZOFFSETFROM:+0100
TZOFFSETTO:+0200
TZNAME:CEST
DTSTART:20250330T010000
END:DAYLIGHT
BEGIN:STANDARD
TZOFFSETFROM:+0200
TZOFFSETTO:+0100
TZNAME:CET
DTSTART:20251026T010000
END:STANDARD
BEGIN:DAYLIGHT
TZOFFSETFROM:+0100
TZOFFSETTO:+0200
TZNAME:CEST
DTSTART:20260329T010000
END:DAYLIGHT
BEGIN:STANDARD
TZOFFSETFROM:+0200
TZOFFSETTO:+0100
TZNAME:CET
DTSTART:20261025T010000
END:STANDARD
BEGIN:DAYLIGHT
TZOFFSETFROM:+0100
TZOFFSETTO:+0200
TZNAME:CEST
DTSTART:20270328T010000
END:DAYLIGHT
BEGIN:STANDARD
TZOFFSETFROM:+0200
TZOFFSETTO:+0100
TZNAME:CET
DTSTART:20271031T010000
END:STANDARD
END:VTIMEZONE
BEGIN:VEVENT
DTSTART;TZID=Europe/Paris:20261107T100000
DTEND;TZID=Europe/Paris:20261107T170000
DTSTAMP:20260425T194714
CREATED:20260103T141748Z
LAST-MODIFIED:20260103T141751Z
UID:1306-1794045600-1794070800@modellbahnclub-hoyerswerda.de
SUMMARY:offene Modellbahnwerkstatt
DESCRIPTION:Große und kleine Gäste sind uns in unseren Vereinsräumen in der Energiefabrik Knappenrode zur offenen Modellbahnwerkstatt herzlich willkommen.  \n\n\n\nNeben den wie gewohnt in Betrieb seienden Teil unserer Modellbahnanlagen werkeln wir an ihnen. Zum Plauschen mit unseren Gästen sind wir natürlich trotzdem gern bereit und geben ebenso gern Antworten zur großen und kleinen Bahn. \n\n\n\nDer Besuch unserer Räume ist natürlich kostenfrei\, jedoch ist für die Energiefabrik der übliche Eintritt zu zahlen.
URL:https://modellbahnclub-hoyerswerda.de/veranstaltung/offene-modellbahnwerkstatt-30/
CATEGORIES:Modellbahnwerkstatt
ATTACH;FMTTYPE=image/jpeg:https://modellbahnclub-hoyerswerda.de/wp-content/uploads/2025/05/Verladung_neu2017-2-scaled.jpg
END:VEVENT
BEGIN:VEVENT
DTSTART;TZID=Europe/Paris:20261108T100000
DTEND;TZID=Europe/Paris:20261108T170000
DTSTAMP:20260425T194714
CREATED:20260103T141908Z
LAST-MODIFIED:20260103T141909Z
UID:1308-1794132000-1794157200@modellbahnclub-hoyerswerda.de
SUMMARY:offene Modellbahnwerkstatt
DESCRIPTION:Große und kleine Gäste sind uns in unseren Vereinsräumen in der Energiefabrik Knappenrode zur offenen Modellbahnwerkstatt herzlich willkommen.  \n\n\n\nNeben den wie gewohnt in Betrieb seienden Teil unserer Modellbahnanlagen werkeln wir an ihnen. Zum Plauschen mit unseren Gästen sind wir natürlich trotzdem gern bereit und geben ebenso gern Antworten zur großen und kleinen Bahn. \n\n\n\nDer Besuch unserer Räume ist natürlich kostenfrei\, jedoch ist für die Energiefabrik der übliche Eintritt zu zahlen.
URL:https://modellbahnclub-hoyerswerda.de/veranstaltung/offene-modellbahnwerkstatt-31/
CATEGORIES:Modellbahnwerkstatt
ATTACH;FMTTYPE=image/jpeg:https://modellbahnclub-hoyerswerda.de/wp-content/uploads/2025/05/Verladung_neu2017-2-scaled.jpg
END:VEVENT
BEGIN:VEVENT
DTSTART;TZID=Europe/Paris:20261205T100000
DTEND;TZID=Europe/Paris:20261205T170000
DTSTAMP:20260425T194714
CREATED:20260103T142208Z
LAST-MODIFIED:20260103T142209Z
UID:1310-1796464800-1796490000@modellbahnclub-hoyerswerda.de
SUMMARY:eventuell offene Modellbahnwerkstatt
DESCRIPTION:Sofern wir keine Ausstellung zum Teschenmarkt am 3. Advent durchführen\, wird  an diesem Wochenende eine „klassische“ Modellbahnwerkstatt abgehalten. \n\n\n\nGroße und kleine Gäste sind uns in unseren Vereinsräumen in der Energiefabrik Knappenrode zur offenen Modellbahnwerkstatt herzlich willkommen.  \n\n\n\nNeben den wie gewohnt in Betrieb seienden Teil unserer Modellbahnanlagen werkeln wir an ihnen. Zum Plauschen mit unseren Gästen sind wir natürlich trotzdem gern bereit und geben ebenso gern Antworten zur großen und kleinen Bahn. \n\n\n\nDer Besuch unserer Räume ist natürlich kostenfrei\, jedoch ist für die Energiefabrik der übliche Eintritt zu zahlen.
URL:https://modellbahnclub-hoyerswerda.de/veranstaltung/eventuell-offene-modellbahnwerkstatt/
CATEGORIES:Modellbahnwerkstatt
ATTACH;FMTTYPE=image/jpeg:https://modellbahnclub-hoyerswerda.de/wp-content/uploads/2025/11/img_5967.jpg
END:VEVENT
BEGIN:VEVENT
DTSTART;TZID=Europe/Paris:20261206T100000
DTEND;TZID=Europe/Paris:20261206T170000
DTSTAMP:20260425T194714
CREATED:20260103T142530Z
LAST-MODIFIED:20260103T142640Z
UID:1313-1796551200-1796576400@modellbahnclub-hoyerswerda.de
SUMMARY:eventuell offene Modellbahnwerkstatt
DESCRIPTION:Sofern wir keine Ausstellung zum Teschenmarkt am 3. Advent durchführen\, wird  an diesem Wochenende eine „klassische“ Modellbahnwerkstatt abgehalten. Und da heute Nikolaus ist\, önnen sich die kleinen Gäste auf eine kleine Überraschung freuen. \n\n\n\nGroße und kleine Gäste sind uns in unseren Vereinsräumen in der Energiefabrik Knappenrode zur offenen Modellbahnwerkstatt herzlich willkommen.  \n\n\n\nNeben den wie gewohnt in Betrieb seienden Teil unserer Modellbahnanlagen werkeln wir an ihnen. Zum Plauschen mit unseren Gästen sind wir natürlich trotzdem gern bereit und geben ebenso gern Antworten zur großen und kleinen Bahn. \n\n\n\nDer Besuch unserer Räume ist natürlich kostenfrei\, jedoch ist für die Energiefabrik der übliche Eintritt zu zahlen.
URL:https://modellbahnclub-hoyerswerda.de/veranstaltung/eventuell-offene-modellbahnwerkstatt-2/
CATEGORIES:Modellbahnwerkstatt
ATTACH;FMTTYPE=image/jpeg:https://modellbahnclub-hoyerswerda.de/wp-content/uploads/2025/11/img_5967.jpg
END:VEVENT
BEGIN:VEVENT
DTSTART;TZID=Europe/Paris:20261211T130000
DTEND;TZID=Europe/Paris:20261211T170000
DTSTAMP:20260425T194714
CREATED:20260103T143056Z
LAST-MODIFIED:20260103T143057Z
UID:1316-1796994000-1797008400@modellbahnclub-hoyerswerda.de
SUMMARY:eventuell Modellbahnausstellung zum Teschenmarkt
DESCRIPTION:Hallo an alle Modellbahnerinnen und Modellbahner aus Hoyerswerda und Umgebung \n\n\n\nWer möchte seine private Modelleisenbahn im Rahmen unserer Modellbahnausstellung zum Teschenmarkt am 3. Advent 2026 (11.-13.12.2026) in Hoyerswerda ausstellen? \n\n\n\nGesucht werden Anlagen oder auch nur einzelne Modelle aller Spurweiten: von G wie „Gartenbahn“ bis Z wie „Ziemlich klein“. Auch die Größe der Anlage ist (fast) unerheblich. Sie muss nur transportabel sein. \n\n\n\nBeim An- und Abtransport bzw. dem Auf- und Abbau können wirnatürlich behilflich sein. Nur Betreiben müsst Ihr die Anlage selbst. \n\n\n\nFür Absprachen und Besichtigungen Eurer Schätze meldet Euch bitte. \n\n\n\nWir freuen uns auf reichlich Rückmeldungen.
URL:https://modellbahnclub-hoyerswerda.de/veranstaltung/eventuell-modellbahnausstellung-zum-teschenmarkt/
CATEGORIES:Modellbahnausstellung
ATTACH;FMTTYPE=image/jpeg:https://modellbahnclub-hoyerswerda.de/wp-content/uploads/2025/11/Bild1-scaled.jpg
END:VEVENT
BEGIN:VEVENT
DTSTART;TZID=Europe/Paris:20261212T130000
DTEND;TZID=Europe/Paris:20261212T190000
DTSTAMP:20260425T194714
CREATED:20260103T143252Z
LAST-MODIFIED:20260103T143254Z
UID:1318-1797080400-1797102000@modellbahnclub-hoyerswerda.de
SUMMARY:eventuell Modellbahnausstellung zum Teschenmarkt
DESCRIPTION:Hallo an alle Modellbahnerinnen und Modellbahner aus Hoyerswerda und Umgebung \n\n\n\nWer möchte seine private Modelleisenbahn im Rahmen unserer Modellbahnausstellung zum Teschenmarkt am 3. Advent 2026 (11.-13.12.2026) in Hoyerswerda ausstellen? \n\n\n\nGesucht werden Anlagen oder auch nur einzelne Modelle aller Spurweiten: von G wie „Gartenbahn“ bis Z wie „Ziemlich klein“. Auch die Größe der Anlage ist (fast) unerheblich. Sie muss nur transportabel sein. \n\n\n\nBeim An- und Abtransport bzw. dem Auf- und Abbau können wirnatürlich behilflich sein. Nur Betreiben müsst Ihr die Anlage selbst. \n\n\n\nFür Absprachen und Besichtigungen Eurer Schätze meldet Euch bitte. \n\n\n\nWir freuen uns auf reichlich Rückmeldungen.
URL:https://modellbahnclub-hoyerswerda.de/veranstaltung/eventuell-modellbahnausstellung-zum-teschenmarkt-2/
CATEGORIES:Modellbahnausstellung
ATTACH;FMTTYPE=image/jpeg:https://modellbahnclub-hoyerswerda.de/wp-content/uploads/2025/11/Bild1-scaled.jpg
END:VEVENT
BEGIN:VEVENT
DTSTART;TZID=Europe/Paris:20261213T130000
DTEND;TZID=Europe/Paris:20261213T180000
DTSTAMP:20260425T194714
CREATED:20260103T143504Z
LAST-MODIFIED:20260103T143505Z
UID:1320-1797166800-1797184800@modellbahnclub-hoyerswerda.de
SUMMARY:eventuell Modellbahnausstellung zum Teschenmarkt
DESCRIPTION:Hallo an alle Modellbahnerinnen und Modellbahner aus Hoyerswerda und Umgebung \n\n\n\nWer möchte seine private Modelleisenbahn im Rahmen unserer Modellbahnausstellung zum Teschenmarkt am 3. Advent 2026 (11.-13.12.2026) in Hoyerswerda ausstellen? \n\n\n\nGesucht werden Anlagen oder auch nur einzelne Modelle aller Spurweiten: von G wie „Gartenbahn“ bis Z wie „Ziemlich klein“. Auch die Größe der Anlage ist (fast) unerheblich. Sie muss nur transportabel sein. \n\n\n\nBeim An- und Abtransport bzw. dem Auf- und Abbau können wirnatürlich behilflich sein. Nur Betreiben müsst Ihr die Anlage selbst. \n\n\n\nFür Absprachen und Besichtigungen Eurer Schätze meldet Euch bitte. \n\n\n\nWir freuen uns auf reichlich Rückmeldungen.
URL:https://modellbahnclub-hoyerswerda.de/veranstaltung/eventuell-modellbahnausstellung-zum-teschenmarkt-3/
CATEGORIES:Modellbahnausstellung
ATTACH;FMTTYPE=image/jpeg:https://modellbahnclub-hoyerswerda.de/wp-content/uploads/2025/11/Bild1-scaled.jpg
END:VEVENT
END:VCALENDAR