BEGIN:VCALENDAR
VERSION:2.0
PRODID:-//Modellbahnclub Hoyerswerda e. V. - ECPv6.15.15//NONSGML v1.0//EN
CALSCALE:GREGORIAN
METHOD:PUBLISH
X-WR-CALNAME:Modellbahnclub Hoyerswerda e. V.
X-ORIGINAL-URL:https://modellbahnclub-hoyerswerda.de
X-WR-CALDESC:Veranstaltungen für Modellbahnclub Hoyerswerda e. V.
REFRESH-INTERVAL;VALUE=DURATION:PT1H
X-Robots-Tag:noindex
X-PUBLISHED-TTL:PT1H
BEGIN:VTIMEZONE
TZID:Europe/Paris
BEGIN:DAYLIGHT
TZOFFSETFROM:+0100
TZOFFSETTO:+0200
TZNAME:CEST
DTSTART:20240331T010000
END:DAYLIGHT
BEGIN:STANDARD
TZOFFSETFROM:+0200
TZOFFSETTO:+0100
TZNAME:CET
DTSTART:20241027T010000
END:STANDARD
BEGIN:DAYLIGHT
TZOFFSETFROM:+0100
TZOFFSETTO:+0200
TZNAME:CEST
DTSTART:20250330T010000
END:DAYLIGHT
BEGIN:STANDARD
TZOFFSETFROM:+0200
TZOFFSETTO:+0100
TZNAME:CET
DTSTART:20251026T010000
END:STANDARD
BEGIN:DAYLIGHT
TZOFFSETFROM:+0100
TZOFFSETTO:+0200
TZNAME:CEST
DTSTART:20260329T010000
END:DAYLIGHT
BEGIN:STANDARD
TZOFFSETFROM:+0200
TZOFFSETTO:+0100
TZNAME:CET
DTSTART:20261025T010000
END:STANDARD
END:VTIMEZONE
BEGIN:VEVENT
DTSTART;TZID=Europe/Paris:20250716T130000
DTEND;TZID=Europe/Paris:20250716T180000
DTSTAMP:20260426T052912
CREATED:20250604T223655Z
LAST-MODIFIED:20250604T223800Z
UID:1172-1752670800-1752688800@modellbahnclub-hoyerswerda.de
SUMMARY:Heute keine Modellbahnwerkstatt
DESCRIPTION:Heute keine Modellbahnwerkstatt\, da durch den Aufbau des stroga-Festivals unsere Vereinsräume schwer zugänglich sind.
URL:https://modellbahnclub-hoyerswerda.de/veranstaltung/heute-keine-modellbahnwerkstatt/
END:VEVENT
BEGIN:VEVENT
DTSTART;TZID=Europe/Paris:20250726T100000
DTEND;TZID=Europe/Paris:20250726T170000
DTSTAMP:20260426T052912
CREATED:20250110T123037Z
LAST-MODIFIED:20250110T123039Z
UID:1080-1753524000-1753549200@modellbahnclub-hoyerswerda.de
SUMMARY:offene Modellbahnwerkstatt
DESCRIPTION:Große und kleine Gäste sind uns in unseren Vereinsräumen in der Energiefabrik Knappenrode zur offenen Modellbahnwerkstatt herzlich willkommen.  \n\n\n\nNeben den wie gewohnt in Betrieb seienden Teil unserer Modellbahnanlagen werkeln wir an ihnen. Zum Plauschen mit unseren Gästen sind wir natürlich trotzdem gern bereit und geben ebenso gern Antworten zur großen und kleinen Bahn. \n\n\n\nDer Besuch unserer Räume ist natürlich kostenfrei\, jedoch ist für die Energiefabrik der übliche Eintritt zu zahlen.
URL:https://modellbahnclub-hoyerswerda.de/veranstaltung/offene-modellbahnwerkstatt-6/
CATEGORIES:Modellbahnwerkstatt
END:VEVENT
BEGIN:VEVENT
DTSTART;TZID=Europe/Paris:20250727T100000
DTEND;TZID=Europe/Paris:20250727T170000
DTSTAMP:20260426T052912
CREATED:20250110T123123Z
LAST-MODIFIED:20250110T123125Z
UID:1082-1753610400-1753635600@modellbahnclub-hoyerswerda.de
SUMMARY:offene Modellbahnwerkstatt
DESCRIPTION:Große und kleine Gäste sind uns in unseren Vereinsräumen in der Energiefabrik Knappenrode zur offenen Modellbahnwerkstatt herzlich willkommen.  \n\n\n\nNeben den wie gewohnt in Betrieb seienden Teil unserer Modellbahnanlagen werkeln wir an ihnen. Zum Plauschen mit unseren Gästen sind wir natürlich trotzdem gern bereit und geben ebenso gern Antworten zur großen und kleinen Bahn. \n\n\n\nDer Besuch unserer Räume ist natürlich kostenfrei\, jedoch ist für die Energiefabrik der übliche Eintritt zu zahlen.
URL:https://modellbahnclub-hoyerswerda.de/veranstaltung/offene-modellbahnwerkstatt-7/
CATEGORIES:Modellbahnwerkstatt
END:VEVENT
END:VCALENDAR