BEGIN:VCALENDAR
VERSION:2.0
PRODID:-//Modellbahnclub Hoyerswerda e. V. - ECPv6.15.15//NONSGML v1.0//EN
CALSCALE:GREGORIAN
METHOD:PUBLISH
X-ORIGINAL-URL:https://modellbahnclub-hoyerswerda.de
X-WR-CALDESC:Veranstaltungen für Modellbahnclub Hoyerswerda e. V.
REFRESH-INTERVAL;VALUE=DURATION:PT1H
X-Robots-Tag:noindex
X-PUBLISHED-TTL:PT1H
BEGIN:VTIMEZONE
TZID:Europe/Paris
BEGIN:DAYLIGHT
TZOFFSETFROM:+0100
TZOFFSETTO:+0200
TZNAME:CEST
DTSTART:20240331T010000
END:DAYLIGHT
BEGIN:STANDARD
TZOFFSETFROM:+0200
TZOFFSETTO:+0100
TZNAME:CET
DTSTART:20241027T010000
END:STANDARD
BEGIN:DAYLIGHT
TZOFFSETFROM:+0100
TZOFFSETTO:+0200
TZNAME:CEST
DTSTART:20250330T010000
END:DAYLIGHT
BEGIN:STANDARD
TZOFFSETFROM:+0200
TZOFFSETTO:+0100
TZNAME:CET
DTSTART:20251026T010000
END:STANDARD
BEGIN:DAYLIGHT
TZOFFSETFROM:+0100
TZOFFSETTO:+0200
TZNAME:CEST
DTSTART:20260329T010000
END:DAYLIGHT
BEGIN:STANDARD
TZOFFSETFROM:+0200
TZOFFSETTO:+0100
TZNAME:CET
DTSTART:20261025T010000
END:STANDARD
END:VTIMEZONE
BEGIN:VEVENT
DTSTART;TZID=Europe/Paris:20251011T100000
DTEND;TZID=Europe/Paris:20251011T100000
DTSTAMP:20260426T003837
CREATED:20250110T123619Z
LAST-MODIFIED:20251008T172851Z
UID:1090-1760176800-1760176800@modellbahnclub-hoyerswerda.de
SUMMARY:offene Modellbahnwerkstatt - abgesagt
DESCRIPTION:Die Energiefabrik Knappenrode lädt zwar an diesem Tag zur Ausstellungseröffnung zum Thema „Knappensee“ ein\, jedoch müssen wir unsere offene Modellbahnwerkstatt leider absagen. \n\n\n\nSiehe hierzu auch die Homepage der Energiefabrik:https://www.energiefabrik-knappenrode.de/
URL:https://modellbahnclub-hoyerswerda.de/veranstaltung/offene-modellbahnwerkstatt-zum-herbst-feuer-fast-der-energiefabrik/
CATEGORIES:Modellbahnwerkstatt
END:VEVENT
END:VCALENDAR