BEGIN:VCALENDAR
VERSION:2.0
PRODID:-//Modellbahnclub Hoyerswerda e. V. - ECPv6.15.15//NONSGML v1.0//EN
CALSCALE:GREGORIAN
METHOD:PUBLISH
X-ORIGINAL-URL:https://modellbahnclub-hoyerswerda.de
X-WR-CALDESC:Veranstaltungen für Modellbahnclub Hoyerswerda e. V.
REFRESH-INTERVAL;VALUE=DURATION:PT1H
X-Robots-Tag:noindex
X-PUBLISHED-TTL:PT1H
BEGIN:VTIMEZONE
TZID:Europe/Paris
BEGIN:DAYLIGHT
TZOFFSETFROM:+0100
TZOFFSETTO:+0200
TZNAME:CEST
DTSTART:20250330T010000
END:DAYLIGHT
BEGIN:STANDARD
TZOFFSETFROM:+0200
TZOFFSETTO:+0100
TZNAME:CET
DTSTART:20251026T010000
END:STANDARD
BEGIN:DAYLIGHT
TZOFFSETFROM:+0100
TZOFFSETTO:+0200
TZNAME:CEST
DTSTART:20260329T010000
END:DAYLIGHT
BEGIN:STANDARD
TZOFFSETFROM:+0200
TZOFFSETTO:+0100
TZNAME:CET
DTSTART:20261025T010000
END:STANDARD
BEGIN:DAYLIGHT
TZOFFSETFROM:+0100
TZOFFSETTO:+0200
TZNAME:CEST
DTSTART:20270328T010000
END:DAYLIGHT
BEGIN:STANDARD
TZOFFSETFROM:+0200
TZOFFSETTO:+0100
TZNAME:CET
DTSTART:20271031T010000
END:STANDARD
END:VTIMEZONE
BEGIN:VEVENT
DTSTART;TZID=Europe/Paris:20260607T100000
DTEND;TZID=Europe/Paris:20260607T180000
DTSTAMP:20260425T175433
CREATED:20260414T170327Z
LAST-MODIFIED:20260414T170328Z
UID:1372-1780826400-1780855200@modellbahnclub-hoyerswerda.de
SUMMARY:Stadtkindertag im Zoo & Schloss Hoyerswerda
DESCRIPTION:Wir sind dabei:\n\n\n\n\n\nAm Sonntag\, den 07. Juni 2026\, findet von 10:00 bis 18:00 Uhr im Zoo & Schloss wieder unser Stadtkindertag statt. Wie in den vergangenen Jahren erwarten wir rund 2.000 Besucherinnen und Besucher\, vor allem Familien mit Kindern im Alter von 3 bis 12 Jahren aus der Stadt und dem Umland. \n\n\n\nWir möchten gemeinsam mit Ihnen ein lebendiges\, vielfältiges Fest gestalten und laden Sie herzlich ein\, sich mit einem eigenen Beitrag zu beteiligen. \n\n\n\nWas wir uns wünschen: \n\n\n\nOb Mit-Mach-Aktion\, kreatives Angebot\, Bewegungsstation\, Infostand mit Interaktion oder ein Beitrag für die Bühne\, alles ist willkommen\, solange es Kinder aktiv einbindet.Thematisch sind Sie frei: von Freizeit & Unterhaltung über Bildung & Prävention bis hin zu Vereinspräsentation oder Nachwuchsgewinnung.
URL:https://modellbahnclub-hoyerswerda.de/veranstaltung/stadtkindertag-im-zoo-schloss-hoyerswerda/
ATTACH;FMTTYPE=image/jpeg:https://modellbahnclub-hoyerswerda.de/wp-content/uploads/2026/04/Stadtkindertag2026.jpg
END:VEVENT
BEGIN:VEVENT
DTSTART;TZID=Europe/Paris:20260612T140000
DTEND;TZID=Europe/Paris:20260612T180000
DTSTAMP:20260425T175433
CREATED:20260414T165816Z
LAST-MODIFIED:20260414T165818Z
UID:1369-1781272800-1781287200@modellbahnclub-hoyerswerda.de
SUMMARY:Hobbymesse in der Stadt-BiBo Hoyerswerda
DESCRIPTION:Wir sind dabei:\n\n\n\n\n\nHobbys entdecken\, Menschen treffen\, Inspiration finden!  \n\n\n\nAm Freitag\, den 12. Juni 2026\, von 14:00 bis 18:00 Uhr wird die Brigitte-Reimann-Stadtbibliothek zum Treffpunkt für alle\, die ihre Freizeit lieben – und sie gern mit anderen teilen möchten. \n\n\n\nZum ersten Mal lädt die Bibliothek zur Hobbymesse ein! Freut euch auf einen bunten Nachmittag voller Ideen\, Kreativität und spannender Begegnungen. Egal ob ihr auf der Suche nach einem neuen Hobby seid oder einfach neugierig stöbern möchtet – hier gibt es jede Menge zu entdecken.
URL:https://modellbahnclub-hoyerswerda.de/veranstaltung/hobbymesse-in-der-stadt-bibo-hoyerswerda/
ATTACH;FMTTYPE=image/jpeg:https://modellbahnclub-hoyerswerda.de/wp-content/uploads/2026/04/Hobbymesse.jpg
END:VEVENT
BEGIN:VEVENT
DTSTART;TZID=Europe/Paris:20260613T100000
DTEND;TZID=Europe/Paris:20260613T180000
DTSTAMP:20260425T175433
CREATED:20260103T135658Z
LAST-MODIFIED:20260424T120713Z
UID:1284-1781344800-1781373600@modellbahnclub-hoyerswerda.de
SUMMARY:offene Modellbahnwerkstatt
DESCRIPTION:Große und kleine Gäste sind uns in unseren Vereinsräumen in der Energiefabrik Knappenrode zur offenen Modellbahnwerkstatt herzlich willkommen.  \n\n\n\nNeben den wie gewohnt in Betrieb seienden Teil unserer Modellbahnanlagen werkeln wir an ihnen. Zum Plauschen mit unseren Gästen sind wir natürlich trotzdem gern bereit und geben ebenso gern Antworten zur großen und kleinen Bahn. \n\n\n\nDer Besuch unserer Räume ist natürlich kostenfrei\, jedoch ist für die Energiefabrik der übliche Eintritt zu zahlen.
URL:https://modellbahnclub-hoyerswerda.de/veranstaltung/offene-modellbahnwerkstatt-zum-technik-tag-der-energiefabrik/
CATEGORIES:Modellbahnwerkstatt
ATTACH;FMTTYPE=image/jpeg:https://modellbahnclub-hoyerswerda.de/wp-content/uploads/2025/05/Verladung_neu2017-2-scaled.jpg
END:VEVENT
BEGIN:VEVENT
DTSTART;TZID=Europe/Paris:20260614T100000
DTEND;TZID=Europe/Paris:20260614T170000
DTSTAMP:20260425T175433
CREATED:20260103T140007Z
LAST-MODIFIED:20260103T140009Z
UID:1288-1781431200-1781456400@modellbahnclub-hoyerswerda.de
SUMMARY:offene Modellbahnwerkstatt
DESCRIPTION:Große und kleine Gäste sind uns in unseren Vereinsräumen in der Energiefabrik Knappenrode zur offenen Modellbahnwerkstatt herzlich willkommen.  \n\n\n\nNeben den wie gewohnt in Betrieb seienden Teil unserer Modellbahnanlagen werkeln wir an ihnen. Zum Plauschen mit unseren Gästen sind wir natürlich trotzdem gern bereit und geben ebenso gern Antworten zur großen und kleinen Bahn. \n\n\n\nDer Besuch unserer Räume ist natürlich kostenfrei\, jedoch ist für die Energiefabrik der übliche Eintritt zu zahlen.
URL:https://modellbahnclub-hoyerswerda.de/veranstaltung/offene-modellbahnwerkstatt-23/
CATEGORIES:Modellbahnwerkstatt
ATTACH;FMTTYPE=image/jpeg:https://modellbahnclub-hoyerswerda.de/wp-content/uploads/2025/05/Verladung_neu2017-2-scaled.jpg
END:VEVENT
BEGIN:VEVENT
DTSTART;TZID=Europe/Paris:20260619T150000
DTEND;TZID=Europe/Paris:20260621T170000
DTSTAMP:20260425T175433
CREATED:20260103T144402Z
LAST-MODIFIED:20260103T144403Z
UID:1322-1781881200-1782061200@modellbahnclub-hoyerswerda.de
SUMMARY:22. Schkeuditzer Großbahntreffen im ehemaligen Straßenbahndepot
DESCRIPTION:Auch in diesem Jahr nehmen einige unserer Vereinsfreunde aus der „Sektion Gartenbahn“ am Großbahntreffen in Schkeuditz teil. Für uns ist es die 12. Teilnahme!!! \n\n\n\nIhr findet uns im Außenbereich.
URL:https://modellbahnclub-hoyerswerda.de/veranstaltung/22-schkeuditzer-grossbahntreffen-im-ehemaligen-strassenbahndepot/
CATEGORIES:Gartenbahntreffen,Modellbahnausstellung
ATTACH;FMTTYPE=image/jpeg:https://modellbahnclub-hoyerswerda.de/wp-content/uploads/2026/01/20250620_175559-scaled.jpg
END:VEVENT
END:VCALENDAR